BEGIN:VCALENDAR
METHOD:REQUEST
PRODID:-//events.orgNONSGML ical.net 4.0//EN
VERSION:2.0
BEGIN:VEVENT
DTEND;VALUE=DATE:20250430
DTSTAMP:20260421T162536Z
DTSTART;VALUE=DATE:20250430
LOCATION:Viejas Arena at Aztec Bowl San Diego State University\, San Diego
ORGANIZER;CN=:mailto:events@events.org
SEQUENCE:0
SUMMARY:Rauw Alejandro - Cosa Nuestra World Tour
UID:a4c60796-c606-4639-b89f-94933a0cad07
URL:https://events.org/e/Rauw-Alejandro---Cosa-Nuestra-World-Tour/SPJ3DW63
BEGIN:VALARM
ACTION:DISPLAY
SUMMARY:Reminder
TRIGGER:-P1D
END:VALARM
END:VEVENT
END:VCALENDAR
