BEGIN:VCALENDAR
METHOD:REQUEST
PRODID:-//events.orgNONSGML ical.net 4.0//EN
VERSION:2.0
BEGIN:VEVENT
DTEND;VALUE=DATE:20260524
DTSTAMP:20260419T142454Z
DTSTART;VALUE=DATE:20260524
LOCATION:Sunset Tavern\, Seattle
ORGANIZER;CN=:mailto:events@events.org
SEQUENCE:0
SUMMARY:The Scratch
UID:8d029472-8428-4f9d-96ec-b3ce5be106c5
URL:https://events.org/e/The-Scratch/CX2HKI8G
BEGIN:VALARM
ACTION:DISPLAY
SUMMARY:Reminder
TRIGGER:-P1D
END:VALARM
END:VEVENT
END:VCALENDAR
