BEGIN:VCALENDAR
METHOD:REQUEST
PRODID:-//events.orgNONSGML ical.net 4.0//EN
VERSION:2.0
BEGIN:VEVENT
DTEND;VALUE=DATE:20260308
DTSTAMP:20260421T082644Z
DTSTART;VALUE=DATE:20260308
LOCATION:Gershwin Theatre\, New York
ORGANIZER;CN=:mailto:events@events.org
SEQUENCE:0
SUMMARY:Wicked (NY)
UID:02e6e33d-ae91-4d68-ad60-c311b54b0ee0
URL:https://events.org/e/Wicked-NY/XT6WYGVI
BEGIN:VALARM
ACTION:DISPLAY
SUMMARY:Reminder
TRIGGER:-P1D
END:VALARM
END:VEVENT
END:VCALENDAR
