BEGIN:VCALENDAR
METHOD:REQUEST
PRODID:-//events.orgNONSGML ical.net 4.0//EN
VERSION:2.0
BEGIN:VEVENT
DTEND;VALUE=DATE:20260426
DTSTAMP:20260423T132908Z
DTSTART;VALUE=DATE:20260426
LOCATION:Dodger Stadium\, Los Angeles
ORGANIZER;CN=:mailto:events@events.org
SEQUENCE:0
SUMMARY:Los Angeles Dodgers vs. Chicago Cubs
UID:3159bd9d-245d-4910-bf1e-dd9279149fa7
URL:https://events.org/e/Los-Angeles-Dodgers-vs-Chicago-Cubs/AE3J6JEB
BEGIN:VALARM
ACTION:DISPLAY
SUMMARY:Reminder
TRIGGER:-P1D
END:VALARM
END:VEVENT
END:VCALENDAR
