BEGIN:VCALENDAR
METHOD:REQUEST
PRODID:-//events.orgNONSGML ical.net 4.0//EN
VERSION:2.0
BEGIN:VEVENT
DTEND;VALUE=DATE:20260426
DTSTAMP:20260421T095143Z
DTSTART;VALUE=DATE:20260426
LOCATION:Reggies Music Joint\, Chicago
ORGANIZER;CN=:mailto:events@events.org
SEQUENCE:0
SUMMARY:Mr. Underhill\, Slug Nudger\, the Homicidols\, I Hate People
UID:8ccef906-ba21-46cf-9471-a8f26fb51e95
URL:https://events.org/e/Mr-Underhill-Slug-Nudger-the-Homicidols-I-Hat/3LE
 7SD44
BEGIN:VALARM
ACTION:DISPLAY
SUMMARY:Reminder
TRIGGER:-P1D
END:VALARM
END:VEVENT
END:VCALENDAR
