BEGIN:VCALENDAR
METHOD:REQUEST
PRODID:-//events.orgNONSGML ical.net 4.0//EN
VERSION:2.0
BEGIN:VEVENT
DTEND;VALUE=DATE:20260628
DTSTAMP:20260421T103624Z
DTSTART;VALUE=DATE:20260628
LOCATION:The Rady Shell at Jacobs Park\, San Diego
ORGANIZER;CN=:mailto:events@events.org
SEQUENCE:0
SUMMARY:Kool And The Gang w/ Sugarhill Gang
UID:601cdc2c-bc44-4f2a-8edf-3ed8c9347ad7
URL:https://events.org/e/Kool-And-The-Gang-w-Sugarhill-Gang/UBIWONKV
BEGIN:VALARM
ACTION:DISPLAY
SUMMARY:Reminder
TRIGGER:-P1D
END:VALARM
END:VEVENT
END:VCALENDAR
