BEGIN:VCALENDAR
METHOD:REQUEST
PRODID:-//events.orgNONSGML ical.net 4.0//EN
VERSION:2.0
BEGIN:VEVENT
DTEND;VALUE=DATE:20260522
DTSTAMP:20260422T090405Z
DTSTART;VALUE=DATE:20260522
LOCATION:Union Park\, Chicago
ORGANIZER;CN=:mailto:events@events.org
SEQUENCE:0
SUMMARY:Solomun in Chicago
UID:0c2f7ae8-1117-45ed-b41e-1a4eca5461a2
URL:https://events.org/e/Solomun-in-Chicago/KHLY9KRN
BEGIN:VALARM
ACTION:DISPLAY
SUMMARY:Reminder
TRIGGER:-P1D
END:VALARM
END:VEVENT
END:VCALENDAR
