BEGIN:VCALENDAR
METHOD:REQUEST
PRODID:-//events.orgNONSGML ical.net 4.0//EN
VERSION:2.0
BEGIN:VEVENT
DTEND;VALUE=DATE:20260624
DTSTAMP:20260422T090127Z
DTSTART;VALUE=DATE:20260624
LOCATION:The Showbox\, Seattle
ORGANIZER;CN=:mailto:events@events.org
SEQUENCE:0
SUMMARY:Holly Humberstone
UID:e8327eb2-e27c-420d-ab96-94ece0c15857
URL:https://events.org/e/Holly-Humberstone/TOC63OD7
BEGIN:VALARM
ACTION:DISPLAY
SUMMARY:Reminder
TRIGGER:-P1D
END:VALARM
END:VEVENT
END:VCALENDAR
