BEGIN:VCALENDAR
METHOD:REQUEST
PRODID:-//events.orgNONSGML ical.net 4.0//EN
VERSION:2.0
BEGIN:VEVENT
DTEND;VALUE=DATE:20260508
DTSTAMP:20260423T153636Z
DTSTART;VALUE=DATE:20260508
LOCATION:The Ford\, Los Angeles
ORGANIZER;CN=:mailto:events@events.org
SEQUENCE:0
SUMMARY:Netflix Is A Joke Presents: A Visit From Portlandia with Fred & Ca
 rrie
UID:40c85dc7-6a0b-47fc-aa43-c2f11cda9f19
URL:https://events.org/e/Netflix-Is-A-Joke-Presents-A-Visit-From-Portl/P4A
 48UNN
BEGIN:VALARM
ACTION:DISPLAY
SUMMARY:Reminder
TRIGGER:-P1D
END:VALARM
END:VEVENT
END:VCALENDAR
