BEGIN:VCALENDAR
METHOD:REQUEST
PRODID:-//events.orgNONSGML ical.net 4.0//EN
VERSION:2.0
BEGIN:VEVENT
DTEND;VALUE=DATE:20260717
DTSTAMP:20260421T081902Z
DTSTART;VALUE=DATE:20260717
LOCATION:Howard Theatre-DC\, Washington
ORGANIZER;CN=:mailto:events@events.org
SEQUENCE:0
SUMMARY:Chris Mitchell
UID:4129fb7a-e7c8-47b8-b5bb-0b625485a7b9
URL:https://events.org/e/Chris-Mitchell/5LYQ7U99
BEGIN:VALARM
ACTION:DISPLAY
SUMMARY:Reminder
TRIGGER:-P1D
END:VALARM
END:VEVENT
END:VCALENDAR
