BEGIN:VCALENDAR
METHOD:REQUEST
PRODID:-//events.orgNONSGML ical.net 4.0//EN
VERSION:2.0
BEGIN:VEVENT
DTEND;VALUE=DATE:20260618
DTSTAMP:20260423T133335Z
DTSTART;VALUE=DATE:20260618
LOCATION:Emerson Colonial Theatre\, Boston
ORGANIZER;CN=:mailto:events@events.org
SEQUENCE:0
SUMMARY:Planet K-Pop
UID:ab23b0d5-6358-4e92-9cfd-e072a08ebc40
URL:https://events.org/e/Planet-K-Pop/GGS6WLAY
BEGIN:VALARM
ACTION:DISPLAY
SUMMARY:Reminder
TRIGGER:-P1D
END:VALARM
END:VEVENT
END:VCALENDAR
