BEGIN:VCALENDAR
METHOD:REQUEST
PRODID:-//events.orgNONSGML ical.net 4.0//EN
VERSION:2.0
BEGIN:VEVENT
DTEND;VALUE=DATE:20260620
DTSTAMP:20260423T133643Z
DTSTART;VALUE=DATE:20260620
LOCATION:Just the Funny\, Miami
ORGANIZER;CN=:mailto:events@events.org
SEQUENCE:0
SUMMARY:The BIG Show Improv Comedy Miami
UID:54b9496a-55f4-464c-9583-7b0c039162fe
URL:https://events.org/e/The-BIG-Show-Improv-Comedy-Miami/P3UV9OD3
BEGIN:VALARM
ACTION:DISPLAY
SUMMARY:Reminder
TRIGGER:-P1D
END:VALARM
END:VEVENT
END:VCALENDAR
