BEGIN:VCALENDAR
METHOD:REQUEST
PRODID:-//events.orgNONSGML ical.net 4.0//EN
VERSION:2.0
BEGIN:VEVENT
DTEND;VALUE=DATE:20260422
DTSTAMP:20260422T091837Z
DTSTART;VALUE=DATE:20260422
LOCATION:Lucinda's\, New York
ORGANIZER;CN=:mailto:events@events.org
SEQUENCE:0
SUMMARY:Laura Cantrell and Guests Celebrate the States of Country
UID:3ecace48-996e-4f08-b4c4-da0a03669117
URL:https://events.org/e/Laura-Cantrell-and-Guests-Celebrate-the-State/95O
 YTVTI
BEGIN:VALARM
ACTION:DISPLAY
SUMMARY:Reminder
TRIGGER:-P1D
END:VALARM
END:VEVENT
END:VCALENDAR
