BEGIN:VCALENDAR
METHOD:REQUEST
PRODID:-//events.orgNONSGML ical.net 4.0//EN
VERSION:2.0
BEGIN:VEVENT
DTEND;VALUE=DATE:20260423
DTSTAMP:20260422T092333Z
DTSTART;VALUE=DATE:20260423
LOCATION:Berlin\, New York
ORGANIZER;CN=:mailto:events@events.org
SEQUENCE:0
SUMMARY:Imogen Valentine | Hannah Williams | Annick Blaize
UID:ee3aafa4-2ae7-4ff7-90bf-9b0d11d282bc
URL:https://events.org/e/Imogen-Valentine-Hannah-Williams-Annick-Blaize/7B
 37K7MA
BEGIN:VALARM
ACTION:DISPLAY
SUMMARY:Reminder
TRIGGER:-P1D
END:VALARM
END:VEVENT
END:VCALENDAR
