BEGIN:VCALENDAR
METHOD:REQUEST
PRODID:-//events.orgNONSGML ical.net 4.0//EN
VERSION:2.0
BEGIN:VEVENT
DTEND;VALUE=DATE:20260420
DTSTAMP:20260419T130127Z
DTSTART;VALUE=DATE:20260420
LOCATION:Madison Square Garden\, New York
ORGANIZER;CN=:mailto:events@events.org
SEQUENCE:0
SUMMARY:East Conf Qtrs: Atlanta Hawks at New York Knicks HM GM2
UID:ea9ee3cb-6a08-450e-8e52-54ba209b1cf1
URL:https://events.org/e/East-Conf-Qtrs-Atlanta-Hawks-at-New-York-Knic/RK2
 TMSSX
BEGIN:VALARM
ACTION:DISPLAY
SUMMARY:Reminder
TRIGGER:-P1D
END:VALARM
END:VEVENT
END:VCALENDAR
