BEGIN:VCALENDAR
METHOD:REQUEST
PRODID:-//events.orgNONSGML ical.net 4.0//EN
VERSION:2.0
BEGIN:VEVENT
DTEND;VALUE=DATE:20260311
DTSTAMP:20260421T081825Z
DTSTART;VALUE=DATE:20260311
LOCATION:Nikki Lopez Philly\, Philadelphia
ORGANIZER;CN=:mailto:events@events.org
SEQUENCE:0
SUMMARY:Space Melt Cinema Presents: Funeral Parade of Roses
UID:9f3ce431-b614-4036-b56a-b0e0439de5ba
URL:https://events.org/e/Space-Melt-Cinema-Presents-Funeral-Parade-of-Rose
 s/5JRCUL9D
BEGIN:VALARM
ACTION:DISPLAY
SUMMARY:Reminder
TRIGGER:-P1D
END:VALARM
END:VEVENT
END:VCALENDAR
