BEGIN:VCALENDAR
METHOD:REQUEST
PRODID:-//events.orgNONSGML ical.net 4.0//EN
VERSION:2.0
BEGIN:VEVENT
DTEND;VALUE=DATE:20260627
DTSTAMP:20260421T104354Z
DTSTART;VALUE=DATE:20260627
LOCATION:Balboa Theatre\, San Diego
ORGANIZER;CN=:mailto:events@events.org
SEQUENCE:0
SUMMARY:JOSH GATES - LEGENDS\, MYSTERIES AND  TALES OF ADVENTURE
UID:cac11ec3-c732-42a0-a9fe-5c49244f3dfd
URL:https://events.org/e/JOSH-GATES---LEGENDS-MYSTERIES-AND-TALES-OF-A/MX8
 57TER
BEGIN:VALARM
ACTION:DISPLAY
SUMMARY:Reminder
TRIGGER:-P1D
END:VALARM
END:VEVENT
END:VCALENDAR
