BEGIN:VCALENDAR
METHOD:REQUEST
PRODID:-//events.orgNONSGML ical.net 4.0//EN
VERSION:2.0
BEGIN:VEVENT
DTEND;VALUE=DATE:20260521
DTSTAMP:20260422T091837Z
DTSTART;VALUE=DATE:20260521
LOCATION:Thalia Hall\, Chicago
ORGANIZER;CN=:mailto:events@events.org
SEQUENCE:0
SUMMARY:*SOLD OUT* Twin Peaks with Post Animal
UID:3450bf6a-802f-4942-b0d8-ed3441328707
URL:https://events.org/e/SOLD-OUT-Twin-Peaks-with-Post-Animal/G5PFIERR
BEGIN:VALARM
ACTION:DISPLAY
SUMMARY:Reminder
TRIGGER:-P1D
END:VALARM
END:VEVENT
END:VCALENDAR
