BEGIN:VCALENDAR
METHOD:REQUEST
PRODID:-//events.orgNONSGML ical.net 4.0//EN
VERSION:2.0
BEGIN:VEVENT
DTEND;VALUE=DATE:20260918
DTSTAMP:20260422T090301Z
DTSTART;VALUE=DATE:20260918
LOCATION:TD Pavilion at Highmark Mann\, Philadelphia
ORGANIZER;CN=:mailto:events@events.org
SEQUENCE:0
SUMMARY:Boyz II Men with The Philly Pops
UID:fb9e7c2a-af74-47f2-b9c8-61b624b5e043
URL:https://events.org/e/Boyz-II-Men-with-The-Philly-Pops/GNKV5L6Y
BEGIN:VALARM
ACTION:DISPLAY
SUMMARY:Reminder
TRIGGER:-P1D
END:VALARM
END:VEVENT
END:VCALENDAR
