BEGIN:VCALENDAR
METHOD:REQUEST
PRODID:-//events.orgNONSGML ical.net 4.0//EN
VERSION:2.0
BEGIN:VEVENT
DTEND;VALUE=DATE:20260529
DTSTAMP:20260421T095307Z
DTSTART;VALUE=DATE:20260529
LOCATION:Citizens House of Blues Boston\, Boston
ORGANIZER;CN=:mailto:events@events.org
SEQUENCE:0
SUMMARY:Nate Smith: Long Live Country Rock And Roll Tour
UID:bf85928a-db1a-4d81-bc49-6f6fa25a58d7
URL:https://events.org/e/Nate-Smith-Long-Live-Country-Rock-And-Roll-Tour/J
 45S9YQB
BEGIN:VALARM
ACTION:DISPLAY
SUMMARY:Reminder
TRIGGER:-P1D
END:VALARM
END:VEVENT
END:VCALENDAR
