BEGIN:VCALENDAR
METHOD:REQUEST
PRODID:-//events.orgNONSGML ical.net 4.0//EN
VERSION:2.0
BEGIN:VEVENT
DTEND;VALUE=DATE:20261022
DTSTAMP:20260421T104142Z
DTSTART;VALUE=DATE:20261022
LOCATION:Majestic Theatre Dallas\, Dallas
ORGANIZER;CN=:mailto:events@events.org
SEQUENCE:0
SUMMARY:Dante Gebel - World Tour Despedida 2026
UID:b96508cb-9c03-4b20-b993-648ca096a07a
URL:https://events.org/e/Dante-Gebel---World-Tour-Despedida-2026/HJ3VCW5Y
BEGIN:VALARM
ACTION:DISPLAY
SUMMARY:Reminder
TRIGGER:-P1D
END:VALARM
END:VEVENT
END:VCALENDAR
