BEGIN:VCALENDAR
METHOD:REQUEST
PRODID:-//events.orgNONSGML ical.net 4.0//EN
VERSION:2.0
BEGIN:VEVENT
DTEND;VALUE=DATE:20260507
DTSTAMP:20260421T095728Z
DTSTART;VALUE=DATE:20260507
LOCATION:Wilshire Ebell Theatre\, Los Angeles
ORGANIZER;CN=:mailto:events@events.org
SEQUENCE:0
SUMMARY:Netflix Is A Joke Presents: Matt Mathews: Boujee On A Budget
UID:2108c561-33f5-4cd8-acda-2595b7adb251
URL:https://events.org/e/Netflix-Is-A-Joke-Presents-Matt-Mathews-Bouje/JND
 HQFJL
BEGIN:VALARM
ACTION:DISPLAY
SUMMARY:Reminder
TRIGGER:-P1D
END:VALARM
END:VEVENT
END:VCALENDAR
