BEGIN:VCALENDAR
METHOD:REQUEST
PRODID:-//events.orgNONSGML ical.net 4.0//EN
VERSION:2.0
BEGIN:VEVENT
DTEND;VALUE=DATE:20260530
DTSTAMP:20260421T095547Z
DTSTART;VALUE=DATE:20260530
LOCATION:Phoenix Rising Stadium\, Phoenix
ORGANIZER;CN=:mailto:events@events.org
SEQUENCE:0
SUMMARY:INTERNATIONAL NIGHT - vs Sacramento Republic FC
UID:26dfd781-254e-44bd-846c-2639b030f2e3
URL:https://events.org/e/INTERNATIONAL-NIGHT---vs-Sacramento-Republic-FC/J
 OVJ8VOD
BEGIN:VALARM
ACTION:DISPLAY
SUMMARY:Reminder
TRIGGER:-P1D
END:VALARM
END:VEVENT
END:VCALENDAR
