BEGIN:VCALENDAR
METHOD:REQUEST
PRODID:-//events.orgNONSGML ical.net 4.0//EN
VERSION:2.0
BEGIN:VEVENT
DTEND;VALUE=DATE:20260515
DTSTAMP:20260423T181727Z
DTSTART;VALUE=DATE:20260515
LOCATION:1015 Folsom\, San Francisco
ORGANIZER;CN=:mailto:events@events.org
SEQUENCE:0
SUMMARY:The Hellp (DJ Set) - Ages 21+
UID:f01e53e8-3050-41e9-90ff-dd7df31dabf4
URL:https://events.org/e/The-Hellp-DJ-Set---Ages-21/JYKT7OCS
BEGIN:VALARM
ACTION:DISPLAY
SUMMARY:Reminder
TRIGGER:-P1D
END:VALARM
END:VEVENT
END:VCALENDAR
