BEGIN:VCALENDAR
METHOD:REQUEST
PRODID:-//events.orgNONSGML ical.net 4.0//EN
VERSION:2.0
BEGIN:VEVENT
DTEND;VALUE=DATE:20261004
DTSTAMP:20260425T202012Z
DTSTART;VALUE=DATE:20261004
LOCATION:Target Center\, Minneapolis
ORGANIZER;CN=:mailto:events@events.org
SEQUENCE:0
SUMMARY:Doja Cat - Spotlight Pre-show Upsell
UID:3558a771-e67e-4153-b75a-64f59e76e9b2
URL:https://events.org/e/Doja-Cat---Spotlight-Pre-show-Upsell/B7OCEKEE
BEGIN:VALARM
ACTION:DISPLAY
SUMMARY:Reminder
TRIGGER:-P1D
END:VALARM
END:VEVENT
END:VCALENDAR
