BEGIN:VCALENDAR
METHOD:REQUEST
PRODID:-//events.orgNONSGML ical.net 4.0//EN
VERSION:2.0
BEGIN:VEVENT
DTEND;VALUE=DATE:20260422
DTSTAMP:20260422T090953Z
DTSTART;VALUE=DATE:20260422
LOCATION:New World Stages - Stage 1\, New York
ORGANIZER;CN=:mailto:events@events.org
SEQUENCE:0
SUMMARY:Heathers: The Musical
UID:8e7814d9-6686-4b7c-8518-9a3624098d3b
URL:https://events.org/e/Heathers-The-Musical/RORVL6D2
BEGIN:VALARM
ACTION:DISPLAY
SUMMARY:Reminder
TRIGGER:-P1D
END:VALARM
END:VEVENT
END:VCALENDAR
