BEGIN:VCALENDAR
METHOD:REQUEST
PRODID:-//events.orgNONSGML ical.net 4.0//EN
VERSION:2.0
BEGIN:VEVENT
DTEND:20250327T210000Z
DTSTAMP:20260424T164946Z
DTSTART:20250327T120000Z
LOCATION:Sheraton Bucks County Langhorne\, 400 Oxford Valley Road\, Langho
 rne\, Bucks County\, PA\, USA
ORGANIZER;CN=Delaware Valley Drug Metabolism Discussion Group:mailto:event
 s@events.org
SEQUENCE:0
SUMMARY:DVDMDG Spring Symposium
UID:c46e47f1-b5ad-4375-890b-c0c124e8e1bf
URL:https://events.org/e/DVDMDG-Spring-Symposium/5XKGCTBHYB
BEGIN:VALARM
ACTION:DISPLAY
SUMMARY:Reminder
TRIGGER:-P1D
END:VALARM
END:VEVENT
END:VCALENDAR
