BEGIN:VCALENDAR
METHOD:REQUEST
PRODID:-//events.orgNONSGML ical.net 4.0//EN
VERSION:2.0
BEGIN:VEVENT
DTEND;VALUE=DATE:20260923
DTSTAMP:20260421T095549Z
DTSTART;VALUE=DATE:20260923
LOCATION:Hard Rock Cafe Miami\, Miami
ORGANIZER;CN=:mailto:events@events.org
SEQUENCE:0
SUMMARY:Ride and Dine! Hard Rock Cafe Miami and Big Bus Tours Miami
UID:4cb2969b-4bac-4fd8-8912-abc6ca5915d0
URL:https://events.org/e/Ride-and-Dine-Hard-Rock-Cafe-Miami-and-Big-Bu/5W9
 XTC6W
BEGIN:VALARM
ACTION:DISPLAY
SUMMARY:Reminder
TRIGGER:-P1D
END:VALARM
END:VEVENT
END:VCALENDAR
