BEGIN:VCALENDAR
METHOD:REQUEST
PRODID:-//events.orgNONSGML ical.net 4.0//EN
VERSION:2.0
BEGIN:VEVENT
DTEND;VALUE=DATE:20260918
DTSTAMP:20260422T091216Z
DTSTART;VALUE=DATE:20260918
LOCATION:Nikki Lopez Philly\, Philadelphia
ORGANIZER;CN=:mailto:events@events.org
SEQUENCE:0
SUMMARY:New Desires
UID:2b860d0a-7d52-4f22-a8dc-b7cb7a9ba281
URL:https://events.org/e/New-Desires/3EI69925
BEGIN:VALARM
ACTION:DISPLAY
SUMMARY:Reminder
TRIGGER:-P1D
END:VALARM
END:VEVENT
END:VCALENDAR
