BEGIN:VCALENDAR
METHOD:REQUEST
PRODID:-//events.orgNONSGML ical.net 4.0//EN
VERSION:2.0
BEGIN:VEVENT
DTEND;VALUE=DATE:20260702
DTSTAMP:20260424T081141Z
DTSTART;VALUE=DATE:20260702
LOCATION:Punch Line Philly\, Philadelphia
ORGANIZER;CN=:mailto:events@events.org
SEQUENCE:0
SUMMARY:Darryl Charles
UID:ff03d98d-c67c-421a-a4e5-47200583da91
URL:https://events.org/e/Darryl-Charles/2PF6QQN3
BEGIN:VALARM
ACTION:DISPLAY
SUMMARY:Reminder
TRIGGER:-P1D
END:VALARM
END:VEVENT
END:VCALENDAR
