BEGIN:VCALENDAR
METHOD:REQUEST
PRODID:-//events.orgNONSGML ical.net 4.0//EN
VERSION:2.0
BEGIN:VEVENT
DTEND;VALUE=DATE:20260714
DTSTAMP:20260419T142453Z
DTSTART;VALUE=DATE:20260714
LOCATION:The National Theatre\, Washington
ORGANIZER;CN=:mailto:events@events.org
SEQUENCE:0
SUMMARY:Beetlejuice (Touring)
UID:4e5fbc56-29a9-4119-8423-94d31fa2b377
URL:https://events.org/e/Beetlejuice-Touring/LBS8U4VB
BEGIN:VALARM
ACTION:DISPLAY
SUMMARY:Reminder
TRIGGER:-P1D
END:VALARM
END:VEVENT
END:VCALENDAR
