BEGIN:VCALENDAR
METHOD:REQUEST
PRODID:-//events.orgNONSGML ical.net 4.0//EN
VERSION:2.0
BEGIN:VEVENT
DTEND;VALUE=DATE:20260729
DTSTAMP:20260422T091832Z
DTSTART;VALUE=DATE:20260729
LOCATION:Toyota Center - TX\, Houston
ORGANIZER;CN=:mailto:events@events.org
SEQUENCE:0
SUMMARY:Bryan Adams: Roll with the Punches w/ guest Pat Benatar & Neil Gir
 aldo
UID:378a4c23-eb13-43a1-afde-b0a998b6371c
URL:https://events.org/e/Bryan-Adams-Roll-with-the-Punches-w-guest-Pat/37C
 59USU
BEGIN:VALARM
ACTION:DISPLAY
SUMMARY:Reminder
TRIGGER:-P1D
END:VALARM
END:VEVENT
END:VCALENDAR
