BEGIN:VCALENDAR
METHOD:REQUEST
PRODID:-//events.orgNONSGML ical.net 4.0//EN
VERSION:2.0
BEGIN:VEVENT
DTEND;VALUE=DATE:20260423
DTSTAMP:20260422T090311Z
DTSTART;VALUE=DATE:20260423
LOCATION:Lincoln Center - Vivian Beaumont Theater\, New York
ORGANIZER;CN=:mailto:events@events.org
SEQUENCE:0
SUMMARY:Ragtime
UID:fe20df5a-1d03-4f3f-9e3d-da362863f283
URL:https://events.org/e/Ragtime/T77SWA9O
BEGIN:VALARM
ACTION:DISPLAY
SUMMARY:Reminder
TRIGGER:-P1D
END:VALARM
END:VEVENT
END:VCALENDAR
