BEGIN:VCALENDAR
METHOD:REQUEST
PRODID:-//events.orgNONSGML ical.net 4.0//EN
VERSION:2.0
BEGIN:VEVENT
DTEND;VALUE=DATE:20260426
DTSTAMP:20260424T080914Z
DTSTART;VALUE=DATE:20260426
LOCATION:Daryl Roth Theatre\, New York
ORGANIZER;CN=:mailto:events@events.org
SEQUENCE:0
SUMMARY:Mexodus
UID:a319c089-faf5-4fa9-8465-f52a839dc351
URL:https://events.org/e/Mexodus/J3T7LOO7
BEGIN:VALARM
ACTION:DISPLAY
SUMMARY:Reminder
TRIGGER:-P1D
END:VALARM
END:VEVENT
END:VCALENDAR
