BEGIN:VCALENDAR
METHOD:REQUEST
PRODID:-//events.orgNONSGML ical.net 4.0//EN
VERSION:2.0
BEGIN:VEVENT
DTEND;VALUE=DATE:20260612
DTSTAMP:20260423T133507Z
DTSTART;VALUE=DATE:20260612
LOCATION:Just the Funny\, Miami
ORGANIZER;CN=:mailto:events@events.org
SEQUENCE:0
SUMMARY:Friday Night Live - Improv Comedy Miami Show
UID:64ba0d66-20ea-44c1-b1f2-ec400d007913
URL:https://events.org/e/Friday-Night-Live---Improv-Comedy-Miami-Show/ODUK
 OX3E
BEGIN:VALARM
ACTION:DISPLAY
SUMMARY:Reminder
TRIGGER:-P1D
END:VALARM
END:VEVENT
END:VCALENDAR
