BEGIN:VCALENDAR
METHOD:REQUEST
PRODID:-//events.orgNONSGML ical.net 4.0//EN
VERSION:2.0
BEGIN:VEVENT
DTEND;VALUE=DATE:20260613
DTSTAMP:20260419T142640Z
DTSTART;VALUE=DATE:20260613
LOCATION:Nikki Lopez Philly\, Philadelphia
ORGANIZER;CN=:mailto:events@events.org
SEQUENCE:0
SUMMARY:Alejandro Aranda
UID:cfe5e748-3876-4485-b6ad-f0dde83c7dfa
URL:https://events.org/e/Alejandro-Aranda/IKBUTCHY
BEGIN:VALARM
ACTION:DISPLAY
SUMMARY:Reminder
TRIGGER:-P1D
END:VALARM
END:VEVENT
END:VCALENDAR
