BEGIN:VCALENDAR
METHOD:REQUEST
PRODID:-//events.orgNONSGML ical.net 4.0//EN
VERSION:2.0
BEGIN:VEVENT
DTEND;VALUE=DATE:20260523
DTSTAMP:20260421T104532Z
DTSTART;VALUE=DATE:20260523
LOCATION:Nectar Lounge\, Seattle
ORGANIZER;CN=:mailto:events@events.org
SEQUENCE:0
SUMMARY:Starseed Transmission - Michael Manahan's 60th birthday bash (21+ 
 Event)
UID:fd626cde-a214-4a28-8fa0-d3b9f1bf08f2
URL:https://events.org/e/Starseed-Transmission---Michael-Manahans-60th/URX
 GN2NC
BEGIN:VALARM
ACTION:DISPLAY
SUMMARY:Reminder
TRIGGER:-P1D
END:VALARM
END:VEVENT
END:VCALENDAR
