BEGIN:VCALENDAR
METHOD:REQUEST
PRODID:-//events.orgNONSGML ical.net 4.0//EN
VERSION:2.0
BEGIN:VEVENT
DTEND;VALUE=DATE:20260918
DTSTAMP:20260422T091514Z
DTSTART;VALUE=DATE:20260918
LOCATION:Agganis Arena\, Boston
ORGANIZER;CN=:mailto:events@events.org
SEQUENCE:0
SUMMARY:Chayanne - Bailemos Otra Vez Tour
UID:4995ed0e-0f18-4480-b97c-20c46bc035f0
URL:https://events.org/e/Chayanne---Bailemos-Otra-Vez-Tour/N23B3EMU
BEGIN:VALARM
ACTION:DISPLAY
SUMMARY:Reminder
TRIGGER:-P1D
END:VALARM
END:VEVENT
END:VCALENDAR
