BEGIN:VCALENDAR
METHOD:REQUEST
PRODID:-//events.orgNONSGML ical.net 4.0//EN
VERSION:2.0
BEGIN:VEVENT
DTEND;VALUE=DATE:20260523
DTSTAMP:20260423T133507Z
DTSTART;VALUE=DATE:20260523
LOCATION:The National Theatre\, Washington
ORGANIZER;CN=:mailto:events@events.org
SEQUENCE:0
SUMMARY:The Great Gatsby (Touring)
UID:4c7cd01a-253e-480d-a23e-cb805bd604d6
URL:https://events.org/e/The-Great-Gatsby-Touring/2FYE4OHL
BEGIN:VALARM
ACTION:DISPLAY
SUMMARY:Reminder
TRIGGER:-P1D
END:VALARM
END:VEVENT
END:VCALENDAR
