BEGIN:VCALENDAR
METHOD:REQUEST
PRODID:-//events.orgNONSGML ical.net 4.0//EN
VERSION:2.0
BEGIN:VEVENT
DTEND;VALUE=DATE:20260522
DTSTAMP:20260424T092741Z
DTSTART;VALUE=DATE:20260522
LOCATION:The Parkway Theater\, Minneapolis
ORGANIZER;CN=:mailto:events@events.org
SEQUENCE:0
SUMMARY:Charlene Kaye
UID:023b6a89-821c-499c-911c-d3236ae22d4c
URL:https://events.org/e/Charlene-Kaye/24IQMHYB
BEGIN:VALARM
ACTION:DISPLAY
SUMMARY:Reminder
TRIGGER:-P1D
END:VALARM
END:VEVENT
END:VCALENDAR
