BEGIN:VCALENDAR
METHOD:REQUEST
PRODID:-//events.orgNONSGML ical.net 4.0//EN
VERSION:2.0
BEGIN:VEVENT
DTEND;VALUE=DATE:20251126
DTSTAMP:20260423T155209Z
DTSTART;VALUE=DATE:20251126
LOCATION:James M. Nederlander Theatre\, Chicago
ORGANIZER;CN=:mailto:events@events.org
SEQUENCE:0
SUMMARY:Hell's Kitchen (Chicago)
UID:26b1eb51-fc49-4f9a-8167-83c61223cfd9
URL:https://events.org/e/Hells-Kitchen-Chicago/4UUWPBAN
BEGIN:VALARM
ACTION:DISPLAY
SUMMARY:Reminder
TRIGGER:-P1D
END:VALARM
END:VEVENT
END:VCALENDAR
