BEGIN:VCALENDAR
METHOD:REQUEST
PRODID:-//events.orgNONSGML ical.net 4.0//EN
VERSION:2.0
BEGIN:VEVENT
DTEND;VALUE=DATE:20260711
DTSTAMP:20260422T092340Z
DTSTART;VALUE=DATE:20260711
LOCATION:Alliance Theatre - Coca-Cola Stage\, Atlanta
ORGANIZER;CN=:mailto:events@events.org
SEQUENCE:0
SUMMARY:Basura Musical
UID:b83c6cd0-ee28-40b0-bd13-65e97a700a61
URL:https://events.org/e/Basura-Musical/XVIBYNO5
BEGIN:VALARM
ACTION:DISPLAY
SUMMARY:Reminder
TRIGGER:-P1D
END:VALARM
END:VEVENT
END:VCALENDAR
