BEGIN:VCALENDAR
METHOD:REQUEST
PRODID:-//events.orgNONSGML ical.net 4.0//EN
VERSION:2.0
BEGIN:VEVENT
DTEND;VALUE=DATE:20260724
DTSTAMP:20260422T090310Z
DTSTART;VALUE=DATE:20260724
LOCATION:Shell Energy Stadium\, Houston
ORGANIZER;CN=:mailto:events@events.org
SEQUENCE:0
SUMMARY:Houston Dash vs. Bay FC
UID:c95e165b-33c7-4254-93de-7546ef69afaf
URL:https://events.org/e/Houston-Dash-vs-Bay-FC/SICGNP6T
BEGIN:VALARM
ACTION:DISPLAY
SUMMARY:Reminder
TRIGGER:-P1D
END:VALARM
END:VEVENT
END:VCALENDAR
