BEGIN:VCALENDAR
METHOD:REQUEST
PRODID:-//events.orgNONSGML ical.net 4.0//EN
VERSION:2.0
BEGIN:VEVENT
DTEND;VALUE=DATE:20260522
DTSTAMP:20260422T090545Z
DTSTART;VALUE=DATE:20260522
LOCATION:Reggies Rock Club\, Chicago
ORGANIZER;CN=:mailto:events@events.org
SEQUENCE:0
SUMMARY:The Brokes\, Social Cig
UID:74842153-24a0-4b79-9186-92c5cee8cab7
URL:https://events.org/e/The-Brokes-Social-Cig/U7EFMHL2
BEGIN:VALARM
ACTION:DISPLAY
SUMMARY:Reminder
TRIGGER:-P1D
END:VALARM
END:VEVENT
END:VCALENDAR
