BEGIN:VCALENDAR
METHOD:REQUEST
PRODID:-//events.orgNONSGML ical.net 4.0//EN
VERSION:2.0
BEGIN:VEVENT
DTEND;VALUE=DATE:20260610
DTSTAMP:20260419T153858Z
DTSTART;VALUE=DATE:20260610
LOCATION:Orpheum Theatre-San Francisco\, San Francisco
ORGANIZER;CN=:mailto:events@events.org
SEQUENCE:0
SUMMARY:Phantom Of The Opera (Touring) - Recommended for ages 8+. No child
 ren under 5 allowed
UID:26cbfea8-96e3-4754-a863-a09c2364fdf0
URL:https://events.org/e/Phantom-Of-The-Opera-Touring---Recommended-fo/LEQ
 MRMCP
BEGIN:VALARM
ACTION:DISPLAY
SUMMARY:Reminder
TRIGGER:-P1D
END:VALARM
END:VEVENT
END:VCALENDAR
