BEGIN:VCALENDAR
METHOD:REQUEST
PRODID:-//events.orgNONSGML ical.net 4.0//EN
VERSION:2.0
BEGIN:VEVENT
DTEND;VALUE=DATE:20260524
DTSTAMP:20260422T090843Z
DTSTART;VALUE=DATE:20260524
LOCATION:CIBC Theatre\, Chicago
ORGANIZER;CN=:mailto:events@events.org
SEQUENCE:0
SUMMARY:Monty Python's Spamalot (Chicago)
UID:52cb9f31-d755-4872-8e3a-de751f620206
URL:https://events.org/e/Monty-Pythons-Spamalot-Chicago/IEXHG2BQ
BEGIN:VALARM
ACTION:DISPLAY
SUMMARY:Reminder
TRIGGER:-P1D
END:VALARM
END:VEVENT
END:VCALENDAR
