BEGIN:VCALENDAR
METHOD:REQUEST
PRODID:-//events.orgNONSGML ical.net 4.0//EN
VERSION:2.0
BEGIN:VEVENT
DTEND;VALUE=DATE:20260621
DTSTAMP:20260421T094537Z
DTSTART;VALUE=DATE:20260621
LOCATION:Huntington Avenue Theatre\, Boston
ORGANIZER;CN=:mailto:events@events.org
SEQUENCE:0
SUMMARY:Eureka Day (Touring)
UID:70218946-f2f8-49f3-a266-ae1cb68d255c
URL:https://events.org/e/Eureka-Day-Touring/9A7XEUFI
BEGIN:VALARM
ACTION:DISPLAY
SUMMARY:Reminder
TRIGGER:-P1D
END:VALARM
END:VEVENT
END:VCALENDAR
