BEGIN:VCALENDAR
METHOD:REQUEST
PRODID:-//events.orgNONSGML ical.net 4.0//EN
VERSION:2.0
BEGIN:VEVENT
DTEND;VALUE=DATE:20260612
DTSTAMP:20260421T103838Z
DTSTART;VALUE=DATE:20260612
LOCATION:The Fillmore Detroit\, Detroit
ORGANIZER;CN=:mailto:events@events.org
SEQUENCE:0
SUMMARY:Pour Minds Podcast: Still Sippin' Tour
UID:675578ac-1699-4811-ac25-b48b0bb6614a
URL:https://events.org/e/Pour-Minds-Podcast-Still-Sippin-Tour/NN8A8PUV
BEGIN:VALARM
ACTION:DISPLAY
SUMMARY:Reminder
TRIGGER:-P1D
END:VALARM
END:VEVENT
END:VCALENDAR
