BEGIN:VCALENDAR
METHOD:REQUEST
PRODID:-//events.orgNONSGML ical.net 4.0//EN
VERSION:2.0
BEGIN:VEVENT
DTEND;VALUE=DATE:20260725
DTSTAMP:20260422T091353Z
DTSTART;VALUE=DATE:20260725
LOCATION:Shell Energy Stadium\, Houston
ORGANIZER;CN=:mailto:events@events.org
SEQUENCE:0
SUMMARY:Houston Dynamo vs. Austin FC
UID:9bbc1fa1-5d68-4cec-81f5-fb7d4add3883
URL:https://events.org/e/Houston-Dynamo-vs-Austin-FC/4FXCQL4G
BEGIN:VALARM
ACTION:DISPLAY
SUMMARY:Reminder
TRIGGER:-P1D
END:VALARM
END:VEVENT
END:VCALENDAR
