BEGIN:VCALENDAR
METHOD:REQUEST
PRODID:-//events.orgNONSGML ical.net 4.0//EN
VERSION:2.0
BEGIN:VEVENT
DTEND;VALUE=DATE:20260507
DTSTAMP:20260421T145048Z
DTSTART;VALUE=DATE:20260507
LOCATION:Lyric Hyperion\, Los Angeles
ORGANIZER;CN=:mailto:events@events.org
SEQUENCE:0
SUMMARY:Netflix Is A Joke Presents: Hayden Johnson
UID:5fd986c5-94c5-463b-acac-bc8c9a2e1448
URL:https://events.org/e/Netflix-Is-A-Joke-Presents-Hayden-Johnson/5MKRJL5R
BEGIN:VALARM
ACTION:DISPLAY
SUMMARY:Reminder
TRIGGER:-P1D
END:VALARM
END:VEVENT
END:VCALENDAR
